Workbook

Sheet שערי מטבעות ועלות מתקנים
D2: עמלות בנקים
C3: שער קניה הגבוה | D3: 0.0005
B4: דולר אמריקאי | C4: 3.8 | D4: =C4*$D$3 -> 0.0019 | E4: =SUM(C4:D4) -> 3.8019
B5: יורו | C5: 3.8 | D5: =C5*$D$3 -> 0.0019 | E5: =SUM(C5:D5) -> 3.8019
B6: זלוטי | C6: 0.95 | D6: =C6*$D$3 -> 0.000475 | E6: =SUM(C6:D6) -> 0.950475
C7: רק בצהוב לעדכן פרטים

Sheet ארהב 
A1: שם הפרוייקט | B1: _______________________________ | D1: שם הקבלן | E1: ________ | I1: תאריך | J1: _________
F3: שער $ | G3: ='שערי מטבעות ועלות מתקנים'!E4 -> 3.8019
A4: מס' | B4: שם המתקן | C4: מק"ט | D4: כמות | E4: מחיר ב $ במפעל הצעה כתובה | G4: מחיר ב ₪ במפעל הצעה כתובה | I4: שיפורים בארץ | J4: סה"כ
A5: 1 | F5: =E5*D5 -> 0 | G5: =E5*G$3*D5 -> 0 | J5: =(I5+H5+G5) -> 0
A6: 2 | F6: =E6*D6 -> 0 | G6: =E6*G$3*D6 -> 0 | J6: =(I6+H6+G6) -> 0
A7: 3 | F7: =E7*D7 -> 0 | G7: =E7*G$3*D7 -> 0 | J7: =(I7+H7+G7) -> 0
A8: 4 | F8: =E8*D8 -> 0 | G8: =E8*G$3*D8 -> 0 | J8: =(I8+H8+G8) -> 0
A9: 5 | F9: =E9*D9 -> 0 | G9: =E9*G$3*D9 -> 0 | J9: =(I9+H9+G9) -> 0
A10: 6 | F10: =E10*D10 -> 0 | G10: =E10*G$3*D10 -> 0 | J10: =(I10+H10+G10) -> 0
A11: 7 | F11: =E11*D11 -> 0 | G11: =E11*G$3*D11 -> 0 | J11: =(I11+H11+G11) -> 0
A12: 8 | F12: =E12*D12 -> 0 | G12: =E12*G$3*D12 -> 0 | J12: =(I12+H12+G12) -> 0
A13: 9 | F13: =E13*D13 -> 0 | G13: =E13*G$3*D13 -> 0 | J13: =(I13+H13+G13) -> 0
A14: 10 | F14: =E14*D14 -> 0 | G14: =E14*G$3*D14 -> 0 | J14: =(I14+H14+G14) -> 0
A15: 11 | F15: =E15*D15 -> 0 | G15: =E15*G$3*D15 -> 0 | J15: =(I15+H15+G15) -> 0
A16: 12 | F16: =E16*D16 -> 0 | G16: =E16*G$3*D16 -> 0 | J16: =(I16+H16+G16) -> 0
A17: 13 | F17: =E17*D17 -> 0 | G17: =E17*G$3*D17 -> 0 | J17: =(I17+H17+G17) -> 0
D18: =SUM(D5:D17) -> 0 | E18: סה"כ מתקנים | F18: =SUM(F5:F17) -> 0 | H18: סה"כ עלות מתקנים בשער המפעל מארה"ב | J18: =SUM(J5:J17)*1.05 -> 0
A19: הובלה מארה"ב | F19: דולר
D20: כמות | E20: מחיר מכולה
A21: הובלה ימית | B21: הובלה במכולה ביחס לערך הסחורה | E21: 0.35 | H21: סה"כ עלות הובלות | J21: =E21*J18 -> 0
C25: רק בצהוב לעדכן פרטים

Sheet הולנד
A1: שם הפרוייקט | B1: _______________________________ | D1: שם הקבלן | E1: ________ | I1: תאריך | J1: _________
F3: שער יורו | G3: ='שערי מטבעות ועלות מתקנים'!E5 -> 3.8019 | H3: הנחה
A4: מס' | B4: שם המתקן | C4: מק"ט | D4: כמות | E4: מחיר ב יורו במפעל הצעה כתובה | G4: מחיר ב ₪ במפעל הצעה כתובה | I4: שיפורים בארץ | J4: סה"כ
A5: 1 | F5: =E5*D5 -> 0 | G5: =E5*G$3*D5 -> 0 | H5: =G5*$H$4 -> 0 | J5: =(I5+H5+G5) -> 0
A6: 2 | F6: =E6*D6 -> 0 | G6: =E6*G$3*D6 -> 0 | H6: =G6*$H$4 -> 0 | J6: =(I6+H6+G6) -> 0
A7: 3 | F7: =E7*D7 -> 0 | G7: =E7*G$3*D7 -> 0 | H7: =G7*$H$4 -> 0 | J7: =(I7+H7+G7) -> 0
A8: 4 | F8: =E8*D8 -> 0 | G8: =E8*G$3*D8 -> 0 | H8: =G8*$H$4 -> 0 | J8: =(I8+H8+G8) -> 0
A9: 5 | F9: =E9*D9 -> 0 | G9: =E9*G$3*D9 -> 0 | H9: =G9*$H$4 -> 0 | J9: =(I9+H9+G9) -> 0
A10: 6 | F10: =E10*D10 -> 0 | G10: =E10*G$3*D10 -> 0 | H10: =G10*$H$4 -> 0 | J10: =(I10+H10+G10) -> 0
A11: 7 | F11: =E11*D11 -> 0 | G11: =E11*G$3*D11 -> 0 | H11: =G11*$H$4 -> 0 | J11: =(I11+H11+G11) -> 0
A12: 8 | F12: =E12*D12 -> 0 | G12: =E12*G$3*D12 -> 0 | H12: =G12*$H$4 -> 0 | J12: =(I12+H12+G12) -> 0
A13: 9 | F13: =E13*D13 -> 0 | G13: =E13*G$3*D13 -> 0 | H13: =G13*$H$4 -> 0 | J13: =(I13+H13+G13) -> 0
A14: 10 | F14: =E14*D14 -> 0 | G14: =E14*G$3*D14 -> 0 | H14: =G14*$H$4 -> 0 | J14: =(I14+H14+G14) -> 0
A15: 11 | F15: =E15*D15 -> 0 | G15: =E15*G$3*D15 -> 0 | H15: =G15*$H$4 -> 0 | J15: =(I15+H15+G15) -> 0
A16: 12 | F16: =E16*D16 -> 0 | G16: =E16*G$3*D16 -> 0 | H16: =G16*$H$4 -> 0 | J16: =(I16+H16+G16) -> 0
A17: 13 | F17: =E17*D17 -> 0 | G17: =E17*G$3*D17 -> 0 | H17: =G17*$H$4 -> 0 | J17: =(I17+H17+G17) -> 0
D18: =SUM(D5:D17) -> 0 | E18: סה"כ מתקנים | F18: =SUM(F5:F17) -> 0 | H18: סה"כ עלות מתקנים בשער המפעל | J18: =SUM(J5:J17)*1.05 -> 0
A19: הובלה מהולנד
D20: כמות | E20: מחיר מכולה
A21: הובלה ימית | B21: הובלה במכולה ביחס לערך הסחורה | E21: 0.25 | J21: =E21*J18 -> 0

Sheet צרפת
A1: שם הפרוייקט | D1: שם הקבלן | E1: ________ | I1: תאריך | J1: _________
F3: שער יורו | G3: ='שערי מטבעות ועלות מתקנים'!E5 -> 3.8019
A4: מס' | B4: שם המתקן | C4: מק"ט | D4: כמות | E4: מחיר ב יורו במפעל הצעה כתובה | G4: מחיר ב ₪ במפעל הצעה כתובה | I4: שיפורים בארץ | J4: סה"כ
A5: 1 | F5: =E5*D5 -> 0 | G5: =E5*G$3*D5 -> 0 | J5: =(I5+H5+G5) -> 0 | K5: =J5*1.05*3*1.08 -> 0
A6: 2 | F6: =E6*D6 -> 0 | G6: =E6*G$3*D6 -> 0 | J6: =(I6+H6+G6) -> 0 | K6: =J6*1.05*3*1.08 -> 0
A7: 3 | F7: =E7*D7 -> 0 | G7: =E7*G$3*D7 -> 0 | J7: =(I7+H7+G7) -> 0 | K7: =J7*1.05*3*1.08 -> 0
A8: 4 | F8: =E8*D8 -> 0 | G8: =E8*G$3*D8 -> 0 | J8: =(I8+H8+G8) -> 0 | K8: =J8*1.05*3*1.08 -> 0
A9: 5 | F9: =E9*D9 -> 0 | G9: =E9*G$3*D9 -> 0 | J9: =(I9+H9+G9) -> 0
A10: 6 | F10: =E10*D10 -> 0 | G10: =E10*G$3*D10 -> 0 | J10: =(I10+H10+G10) -> 0
A11: 7 | F11: =E11*D11 -> 0 | G11: =E11*G$3*D11 -> 0 | J11: =(I11+H11+G11) -> 0
A12: 8 | F12: =E12*D12 -> 0 | G12: =E12*G$3*D12 -> 0 | J12: =(I12+H12+G12) -> 0
A13: 9 | F13: =E13*D13 -> 0 | G13: =E13*G$3*D13 -> 0 | J13: =(I13+H13+G13) -> 0
A14: 10 | F14: =E14*D14 -> 0 | G14: =E14*G$3*D14 -> 0 | J14: =(I14+H14+G14) -> 0
A15: 11 | F15: =E15*D15 -> 0 | G15: =E15*G$3*D15 -> 0 | J15: =(I15+H15+G15) -> 0
A16: 12 | F16: =E16*D16 -> 0 | G16: =E16*G$3*D16 -> 0 | J16: =(I16+H16+G16) -> 0
A17: 13 | F17: =E17*D17 -> 0 | G17: =E17*G$3*D17 -> 0 | J17: =(I17+H17+G17) -> 0
F18: =E18*D18 -> 0 | G18: =E18*G$3*D18 -> 0 | J18: =(I18+H18+G18) -> 0
A19: 14 | F19: =E19*D19 -> 0 | G19: =E19*G$3*D19 -> 0 | J19: =(I19+H19+G19) -> 0
F20: =E20*D20 -> 0 | G20: =E20*G$3*D20 -> 0 | J20: =(I20+H20+G20) -> 0
F21: =E21*D21 -> 0 | G21: =E21*G$3*D21 -> 0 | J21: =(I21+H21+G21) -> 0
F22: =E22*D22 -> 0 | G22: =E22*G$3*D22 -> 0 | J22: =(I22+H22+G22) -> 0
F23: =E23*D23 -> 0 | G23: =E23*G$3*D23 -> 0 | J23: =(I23+H23+G23) -> 0
A24: 15 | F24: =E24*D24 -> 0 | G24: =E24*G$3*D24 -> 0 | J24: =(I24+H24+G24) -> 0
D25: =SUM(D5:D24) -> 0 | E25: סה"כ מתקנים | F25: =SUM(F5:F24) -> 0 | I25: סה"כ עלות מתקנים בשער המפעל | J25: =SUM(J5:J24)*1 -> 0
A26: הובלה מצרפת
D27: כמות | E27: מחיר מכולה
A28: הובלה ימית | B28: הובלה במכולה ביחס לערך הסחורה | E28: 0.2 | H28: סה"כ עלות הובלות | J28: =E28*J25 -> 0

Sheet קוריאה
A1: שם הפרוייקט | B1: _______________________________ | D1: שם הקבלן | E1: ________ | I1: תאריך | J1: _________
F3: שער $ | G3: ='שערי מטבעות ועלות מתקנים'!E4 -> 3.8019
A4: מס' | B4: שם המתקן | C4: מק"ט | D4: כמות | E4: מחיר ב $ במפעל הצעה כתובה | G4: מחיר ב ₪ במפעל הצעה כתובה | H4: 0 | I4: שיפורים בארץ | J4: סה"כ
A5: 1 | F5: =E5*D5 -> 0 | G5: =E5*G$3*D5 -> 0 | H5: =G5*H4 -> 0 | J5: =(I5+H5+G5) -> 0
A6: 2 | F6: =E6*D6 -> 0 | G6: =E6*G$3*D6 -> 0 | H6: =G6*H5 -> 0 | J6: =(I6+H6+G6) -> 0
A7: 3 | F7: =E7*D7 -> 0 | G7: =E7*G$3*D7 -> 0 | H7: =G7*H6 -> 0 | J7: =(I7+H7+G7) -> 0
A8: 4 | F8: =E8*D8 -> 0 | G8: =E8*G$3*D8 -> 0 | H8: =G8*H7 -> 0 | J8: =(I8+H8+G8) -> 0
A9: 5 | F9: =E9*D9 -> 0 | G9: =E9*G$3*D9 -> 0 | H9: =G9*H8 -> 0 | J9: =(I9+H9+G9) -> 0
A10: 6 | F10: =E10*D10 -> 0 | G10: =E10*G$3*D10 -> 0 | H10: =G10*H9 -> 0 | J10: =(I10+H10+G10) -> 0
A11: 7 | F11: =E11*D11 -> 0 | G11: =E11*G$3*D11 -> 0 | H11: =G11*H10 -> 0 | J11: =(I11+H11+G11) -> 0
A12: 8 | F12: =E12*D12 -> 0 | G12: =E12*G$3*D12 -> 0 | H12: =G12*H11 -> 0 | J12: =(I12+H12+G12) -> 0
A13: 9 | F13: =E13*D13 -> 0 | G13: =E13*G$3*D13 -> 0 | H13: =G13*H12 -> 0 | J13: =(I13+H13+G13) -> 0
A14: 10 | F14: =E14*D14 -> 0 | G14: =E14*G$3*D14 -> 0 | H14: =G14*H13 -> 0 | J14: =(I14+H14+G14) -> 0
A15: 11 | F15: =E15*D15 -> 0 | G15: =E15*G$3*D15 -> 0 | H15: =G15*H14 -> 0 | J15: =(I15+H15+G15) -> 0
A16: 12 | F16: =E16*D16 -> 0 | G16: =E16*G$3*D16 -> 0 | H16: =G16*H15 -> 0 | J16: =(I16+H16+G16) -> 0
A17: 13 | F17: =E17*D17 -> 0 | G17: =E17*G$3*D17 -> 0 | H17: =G17*H16 -> 0 | J17: =(I17+H17+G17) -> 0
D18: =SUM(D5:D17) -> 0 | E18: סה"כ מתקנים | F18: =SUM(F5:F17) -> 0 | H18: סה"כ עלות מתקנים בשער המפעל מקוריאה | J18: =SUM(J5:J17)*1.05 -> 0
A19: הובלה מקוריאה
D20: כמות | E20: מחיר מכולה
A21: הובלה ימית | E21: 0.4 | H21: סה"כ עלות הובלות | J21: =E21*J18 -> 0

Sheet fhs 
A1: שם הפרוייקט | B1: _______________________________ | D1: שם הקבלן | E1: ________ | I1: תאריך | J1: _________
F3: שער יורו | G3: ='שערי מטבעות ועלות מתקנים'!E5 -> 3.8019 | H3: הנחה
A4: מס' | B4: שם המתקן | C4: מק"ט | D4: כמות | E4: מחיר ביורו בשער המפעל | G4: מחיר ב ₪ במפעל | I4: שיפורים בארץ | J4: סה"כ
A5: 1 | F5: =E5*D5 -> 0 | G5: =E5*G$3*D5 -> 0 | H5: =G5*$H$4 -> 0 | J5: =(I5+H5+G5) -> 0
A6: 2 | F6: =E6*D6 -> 0 | G6: =E6*G$3*D6 -> 0 | H6: =G6*$H$4 -> 0 | J6: =(I6+H6+G6) -> 0
A7: 3 | F7: =E7*D7 -> 0 | G7: =E7*G$3*D7 -> 0 | H7: =G7*$H$4 -> 0 | J7: =(I7+H7+G7) -> 0
A8: 4 | F8: =E8*D8 -> 0 | G8: =E8*G$3*D8 -> 0 | H8: =G8*$H$4 -> 0 | J8: =(I8+H8+G8) -> 0
A9: 5 | F9: =E9*D9 -> 0 | G9: =E9*G$3*D9 -> 0 | H9: =G9*$H$4 -> 0 | J9: =(I9+H9+G9) -> 0
A10: 6 | F10: =E10*D10 -> 0 | G10: =E10*G$3*D10 -> 0 | H10: =G10*$H$4 -> 0 | J10: =(I10+H10+G10) -> 0
A11: 7 | F11: =E11*D11 -> 0 | G11: =E11*G$3*D11 -> 0 | H11: =G11*$H$4 -> 0 | J11: =(I11+H11+G11) -> 0
A12: 8 | F12: =E12*D12 -> 0 | G12: =E12*G$3*D12 -> 0 | H12: =G12*$H$4 -> 0 | J12: =(I12+H12+G12) -> 0
A13: 9 | F13: =E13*D13 -> 0 | G13: =E13*G$3*D13 -> 0 | H13: =G13*$H$4 -> 0 | J13: =(I13+H13+G13) -> 0
A14: 10 | F14: =E14*D14 -> 0 | G14: =E14*G$3*D14 -> 0 | H14: =G14*$H$4 -> 0 | J14: =(I14+H14+G14) -> 0
A15: 11 | F15: =E15*D15 -> 0 | G15: =E15*G$3*D15 -> 0 | H15: =G15*$H$4 -> 0 | J15: =(I15+H15+G15) -> 0
A16: 12 | F16: =E16*D16 -> 0 | G16: =E16*G$3*D16 -> 0 | H16: =G16*$H$4 -> 0 | J16: =(I16+H16+G16) -> 0
A17: 13 | F17: =E17*D17 -> 0 | G17: =E17*G$3*D17 -> 0 | H17: =G17*$H$4 -> 0 | J17: =(I17+H17+G17) -> 0
D18: =SUM(D5:D17) -> 0 | E18: סה"כ מתקנים | F18: =SUM(F5:F17) -> 0 | H18: סה"כ עלות מתקנים | J18: =SUM(J5:J17)*1.05 -> 0
A19: הובלה מגרמניה
D20: כמות | E20: מחיר מכולה
A21: הובלה חלקית | B21: הובלה במכולה ביחס לערך הסחורה | E21: 0.25 | H21: סה"כ עלות הובלות | J21: =E21*J18 -> 0

Sheet פולין
A1: שם הפרוייקט | B1: _______________________________ | D1: שם הקבלן | E1: ________ | I1: תאריך | J1: _________
F2: שער זלוטי | G2: ='שערי מטבעות ועלות מתקנים'!E6 -> 0.950475
A3: מס' | B3: שם המתקן | C3: מק"ט | D3: כמות | E3: מחיר בזלוטי במפעל הצעה כתובה | G3: מחיר ב ₪ במפעל הצעה כתובה | I3: שיפורים בארץ | J3: סה"כ
A4: 1 | C4: 70170010 | D4: 1 | E4: =2100*1.03 -> 2163 | F4: =E4*D4 -> 2163 | G4: =E4*G$2*D4 -> 2055.8774 | J4: =(I4+H4+G4) -> 2055.8774 | K4: =J4*1.05*3*1.08 -> 6994.095 | L4: יש
A5: 2 | C5: 7630011 | D5: 1 | E5: =4100*1.03 -> 4223 | F5: =E5*D5 -> 4223 | G5: =E5*G$2*D5 -> 4013.8559 | J5: =(I5+H5+G5) -> 4013.8559 | K5: =J5*1.05*3*1.08 -> 13655.138 | L5: יש
A6: 3 | C6: 110100012 | D6: 1 | E6: =37669*1.03 -> 38799.07 | F6: =E6*D6 -> 38799.07 | G6: =E6*G$2*D6 -> 36877.546 | J6: =(I6+H6+G6) -> 36877.546 | K6: =J6*1.05*3*1.08 -> 125457.41 | L6: יש
A7: 4 | F7: =E7*D7 -> 0 | G7: =E7*G$2*D7 -> 0 | J7: =(I7+H7+G7) -> 0 | L7: יש
A8: 5 | F8: =E8*D8 -> 0 | G8: =E8*G$2*D8 -> 0 | J8: =(I8+H8+G8) -> 0 | L8: יש
A9: 6 | F9: =E9*D9 -> 0 | G9: =E9*G$2*D9 -> 0 | J9: =(I9+H9+G9) -> 0 | L9: יש
A10: 7 | F10: =E10*D10 -> 0 | G10: =E10*G$2*D10 -> 0 | J10: =(I10+H10+G10) -> 0
A11: 8 | F11: =E11*D11 -> 0 | G11: =E11*G$2*D11 -> 0 | J11: =(I11+H11+G11) -> 0
A12: 9 | F12: =E12*D12 -> 0 | G12: =E12*G$2*D12 -> 0 | J12: =(I12+H12+G12) -> 0
A13: 10 | F13: =E13*D13 -> 0 | G13: =E13*G$2*D13 -> 0 | J13: =(I13+H13+G13) -> 0
A14: 11 | F14: =E14*D14 -> 0 | G14: =E14*G$2*D14 -> 0 | J14: =(I14+H14+G14) -> 0 | K14: =J14*2.69*1.05*1.08 -> 0
A15: 12 | F15: =E15*D15 -> 0 | G15: =E15*G$2*D15 -> 0 | J15: =(I15+H15+G15) -> 0 | K15: =J15*2.69*1.05*1.08 -> 0
A16: 13 | F16: =E16*D16 -> 0 | G16: =E16*G$2*D16 -> 0 | J16: =(I16+H16+G16) -> 0 | K16: =J16*2.69*1.05*1.08 -> 0
A17: 14 | F17: =E17*D17 -> 0 | G17: =E17*G$2*D17 -> 0 | J17: =(I17+H17+G17) -> 0 | K17: =J17*2.69*1.05*1.08 -> 0
A18: 15 | F18: =E18*D18 -> 0 | G18: =E18*G$2*D18 -> 0 | J18: =(I18+H18+G18) -> 0 | K18: =J18*2.69*1.05*1.08 -> 0
A19: 16 | F19: =E19*D19 -> 0 | G19: =E19*G$2*D19 -> 0 | J19: =(I19+H19+G19) -> 0
A20: 17 | F20: =E20*D20 -> 0 | G20: =E20*G$2*D20 -> 0 | J20: =(I20+H20+G20) -> 0
D21: =SUM(D4:D20) -> 3 | E21: סה"כ מתקנים | F21: =SUM(F4:F20) -> 45185.07 | H21: סה"כ עלות מתקנים בשער המפעל פולין | J21: =SUM(J4:J20)*1 -> 42947.279
A22: הובלת מתקנים מפולין
D23: כמות | E23: מחיר מכולה
A24: הובלה ימים | E24: 0.12 | H24: סה"כ עלות הובלות | J24: =E24*J21 -> 5153.6735

Sheet התקנת הגן
B1: שם הפרוייקט | C1: _______________________________ | F1: שם הקבלן | G1: ________ | I1: תאריך | J1: _________
B3: מס' | C3: תאור | E3: יחידה | F3: כמות | G3: מחיר | J3: סה"כ
B4: 1 | C4: צוות התקנה לפריקה | E4: יו"ע | F4: 0 | G4: 2500 | J4: =G4*F4 -> 0
B5: 2 | C5: צוות התקנה להובלה ותחילת התקנה | E5: יו"ע | F5: 0 | G5: 2500 | J5: =G5*F5 -> 0
B6: 3 | C6: צוות התקנה | E6: יו"ע | F6: 0 | G6: 2500 | J6: =G6*F6 -> 0
B7: 4 | C7: צוות סילוק ליקויים | E7: יו"ע | F7: 0 | G7: 2500 | J7: =G7*F7 -> 0
B8: 5 | C8: צוות אישור מכון תקנים | E8: יו"ע | F8: 0 | G8: 2500 | J8: =G8*F8 -> 0
B9: 6 | C9: מחפרון | E9: יו"ע | F9: 0 | G9: 2000 | J9: =G9*F9 -> 0
B10: 7 | C10: מכולה לפינוי | E10: יו"ע | F10: 0 | G10: 1000 | J10: =G10*F10 -> 0
B11: 8 | C11: מנוף גדול | E11: יו"ע | F11: 0 | G11: 4500 | J11: =G11*F11 -> 0
B12: 9 | C12: במת הרמה | E12: שבוע | F12: 0 | G12: 5000 | J12: =G12*F12 -> 0
B13: 10 | C13: משאבת בטון | E13: יו"ע | F13: 0 | G13: 800 | J13: =G13*F13 -> 0
B14: 11 | J14: =G14*F14 -> 0
B15: 12 | C15: ארצות הברית | F15: 1 | G15: ='ארהב '!J18 -> 0 | H15: 0.3 | J15: =G15*F15*H15 -> 0
B16: 13 | C16: הולנד | F16: 1 | G16: =הולנד!J18 -> 0 | H16: 0.3 | J16: =G16*F16*H16 -> 0
B17: 14 | C17: צרפת | F17: 1 | G17: =צרפת!J25 -> 0 | H17: 0.35 | J17: =G17*F17*H17 -> 0
B18: 15 | C18: קוריאה | F18: 1 | G18: =קוריאה!J18 -> 0 | H18: 0.3 | J18: =G18*F18*H18 -> 0
B19: 17 | C19: פולין | F19: 1 | G19: =פולין!J21 -> 42947.279 | H19: 0.35 | J19: =G19*F19*H19 -> 15031.548
B20: 18 | J20: =G20*F20*H20 -> 0
I21: סה"כ עלות התקנה | J21: =SUM(J4:J20)*1.05 -> 15783.125

Sheet ריכוז
F1: תאריך | G1: _________
B3: שם הפרוייקט | C3: גן הנחש | D3: שם הקבלן | E3: _______
C4: ריכוז | K4: טבלה מרכזת
A5: מסד | B5: מדינה | C5: תאור | D5: יחידה | E5: כמות | F5: מחיר | G5: סה"כ
A6: 1 | B6: ארה"ב | C6: ='ארהב '!H18 -> סה"כ עלות מתקנים בשער המפעל מארה"ב | D6: קומפלט | G6: ='ארהב '!J18 -> 0 | I6: =G6 -> 0 | K6: סה"כ ההצעה | L6: =I21 -> 116560.42
A7: 2 | B7: ארה"ב | C7: ='ארהב '!A19 -> הובלה מארה"ב | D7: קומפלט | G7: ='ארהב '!J21 -> 0 | K7: סה"כ מתקנים | L7: =G16+G14+G12+G10+G8+G6 -> 42947.279
A8: 3 | B8: הולנד | C8: =הולנד!H18 -> סה"כ עלות מתקנים בשער המפעל | D8: קומפלט | G8: =הולנד!J18 -> 0 | I8: =G8 -> 0 | K8: סה"כ הובלה | L8: =G7+G9+G11+G13+G15+G17 -> 5153.6735
A9: 4 | B9: הולנד | C9: =הולנד!A19 -> הובלה מהולנד | D9: קומפלט | G9: =הולנד!J21 -> 0 | K9: סה"כ התקנה | L9: =G18 -> 15783.125
A10: 5 | B10: צרפת | C10: =צרפת!I25 -> סה"כ עלות מתקנים בשער המפעל | D10: קומפלט | G10: =צרפת!J25 -> 0 | I10: =G10 -> 0
A11: 6 | B11: צרפת | C11: =צרפת!A26 -> הובלה מצרפת | D11: קומפלט | G11: =צרפת!J28 -> 0 | L11: =L6-L7-L8-L9 -> 52676.345
A12: 7 | B12: קוריאה | C12: =קוריאה!H18 -> סה"כ עלות מתקנים בשער המפעל מקוריאה | D12: קומפלט | G12: =קוריאה!J18 -> 0 | I12: =G12 -> 0
A13: 8 | B13: קוריאה | C13: =קוריאה!A19 -> הובלה מקוריאה | D13: קומפלט | G13: =קוריאה!J21 -> 0
A14: 9 | B14: fhs | C14: ='fhs '!H18 -> סה"כ עלות מתקנים | D14: קומפלט | G14: ='fhs '!J18 -> 0
A15: 10 | B15: fhs | C15: ='fhs '!A19 -> הובלה מגרמניה | D15: קומפלט | G15: ='fhs '!J21 -> 0
A16: 11 | B16: פולין | C16: =פולין!H21 -> סה"כ עלות מתקנים בשער המפעל פולין | D16: קומפלט | G16: =פולין!J21 -> 42947.279 | I16: =G16 -> 42947.279
A17: 12 | B17: פולין | C17: =פולין!A22 -> הובלת מתקנים מפולין | D17: קומפלט | G17: =פולין!J24 -> 5153.6735 | I17: =SUM(I6:I16) -> 42947.279 | J17: עלות מתקנים בלבד
A18: 13 | C18: התקנת הגן | D18: קומפלט | G18: ='התקנת הגן'!J21 -> 15783.125 | I18: =I21/I17 -> 2.7140351 | J18: מקדם עיסקה
G19: =SUM(G6:G18) -> 63884.078 | I19: 2.5 | J19: מקדם
E20: ב.צ.מ. | F20: 0.04 | G20: =F20*G19 -> 2555.3631
G21: =SUM(G19:G20) -> 66439.441 | H21: =G23+G25+G27+G29 -> 50120.982 | I21: =SUM(G21:H21) -> 116560.42 | J21: מחיר מתקני משחק
E23: תקורה | F23: 0.16 | G23: =F23*G31 -> 18649.668 | L23: שטח מתקני משחק | M23: (תקציב 1500000)
L24: עלות מתקנים | M24: =I21 -> 116560.42
E25: שיווק | F25: 0.02 | G25: =F25*G31 -> 2331.2085 | L25: כושר
L26: עלות גומי | M26: =G44 -> 20010
E27: משכ"ל מתווך | F27: 0 | G27: =F27*G31 -> 0 | L27: עמלת מוריה 8% | M27: =(M26+M24+M25)*0.08 -> 10925.634
L28: סה"כ | M28: =SUM(M24:M27) -> 147496.06
E29: רווח + ביטוח | F29: 0.25 | G29: =F29*G31 -> 29140.106
I30: 2.9
F31: =SUM(F23:F30) -> 0.43 | G31: =G21/(1-F31) -> 116560.42 | I31: =I30*צרפת!J7 -> 0 | K31: 160000
I32: =I$30*פולין!J12 -> 0 | K32: =K31/1.18 -> 135593.22
G33: =G44 -> 20010 | H33: תוספות | I33: =I$30*פולין!J13 -> 0
G34: =SUM(G31:G33) -> 136570.42 | H34: סה"כ | I34: =I$30*פולין!J14 -> 0
I35: =SUM(I31:I34) -> 0
C39: גומי בשטח מתקני משחק | D39: יחידה | E39: כמות | F39: מחיר | G39: סה"כ
C40: דשא סינטטי | D40: מ"ר | E40: 120 | F40: 145 | G40: =F40*E40 -> 17400
F42: סה"כ | G42: =SUM(G40:G41) -> 17400
E43: רווח | F43: 0.15 | G43: =F43*G42 -> 2610
F44: סה"כ | G44: =G42+G43 -> 20010

Sheet תשתיות
B2: סעיפים לחישוב תשתיות - עלות בלבד ללא רווח
B3: מעודכן 1.1.2024
B4: פריט | C4: יחידה | D4: כמות | E4: מחיר | F4: סה"כ
B5: מצע בולם דשא כולל תוספת מילוי חול | C5: מ"ר | E5: =155*1.13 -> 175.15 | F5: =E5*D5 -> 0 | G5: כולל עליית מחיר 2024
B6: אבן עיוורים בדשא | C6: מ"א | E6: =125*1.13 -> 141.25 | F6: =E6*D6 -> 0 | G6: כולל עליית מחיר 2024
B7: מצע בולם גומי 50/50 | C7: מ"ר | E7: 220 | G7: לפני עליית מחיר 2024
B8: מצע בולם גומי 70/30 | C8: מ"ר | E8: 235 | G8: לפני עליית מחיר 2024
B9: מצע בולם גומי TPV | C9: מ"ר | E9: 280 | G9: לפני עליית מחיר 2024
B10: אבן עיוורים בגומי | C10: מ"א | E10: 180 | G10: לפני עליית מחיר 2024
B11: הצללה מפרשים | C11: מ"ר | E11: 180
B12: הכנה לעמוד תאורה | C12: יח' | E12: 2500
B14: מעקה בטיחות כולל הובלה והתקנה | C14: מ"א | E14: 270 | F14: =E14*D14 -> 0
B15: ספסל | C15: יח' | E15: 1500 | F15: =E15*D15 -> 0
B16: אשפתון | C16: יח' | E16: 1060 | F16: =E16*D16 -> 0
B17: שולחן קקל ערן דקים והצללות | C17: יח' | E17: 1100
B18: יועץ בטיחות נגישות | E18: 2000 | F18: =E18*D18 -> 0
B19: יציקת בטון על כל השטח לעובי 10 ס"מ | C19: מ"ר | E19: 200 | F19: =E19*D19 -> 0
B20: הכנת שרוולים לתאורה ותקשורת כולל חפירה צינור 50 והארקה | C20: מ"א | E20: =26+16+30+100 -> 172 | F20: =E20*D20 -> 0
B21: אבן גן כולל הובלה ועבודה | C21: מ"א | E21: 130 | F21: =E21*D21 -> 0
B22: אבן משתלבת כולל הובלה ועבודה | C22: מ"ר | E22: 200 | F22: =E22*D22 -> 0
B23: מכולת פינוי 8 מ"ק | C23: יח' | E23: 1200 | F23: =E23*D23 -> 0
B24: מחפרון | C24: יו"ע | E24: 1600 | F24: =E24*D24 -> 0
B25: משאבת בטון עד 10 קוב ראשונים | C25: יו"ע | E25: 1100 | F25: =E25*D25 -> 0
B26: חפירה ופינוי במכולה. בד"כ עומק חפירה 15 ס"מ. | C26: מ"ק | E26: 80 | F26: =E26*D26 -> 0
B27: מצעים. עומק בד"כ 15 ס"מ | C27: מ"ק | E27: 198 | F27: =E27*D27 -> 0
B32: מיניפיץ 13*18+מצע בולם דשא- 234מ"ר(דשא עוז) | E32: 80500 | F32: =E32*D32 -> 0
B33: שולחן טניס | F33: =E33*D33 -> 0
B34: משחק רצפה סולמות ונחשים | E34: 7700 | F34: =E34*D34 -> 0
B35: משחק רצפה תולעת מספרים | E35: 8400 | F35: =E35*D35 -> 0
B36: משחק רצפה ים יבשה | E36: 2995 | F36: =E36*D36 -> 0
B40: עובי בטון להתקנה שטוחה 12-15 ס"מ
